BEGIN:VCALENDAR
VERSION:2.0
PRODID:iCalendar-Evo
X-WR-TIMEZONE:US/Mountain
BEGIN:VEVENT
DTSTAMP:20260423THI3844Z
URL:https://www.sturgis-sd.gov/events/99201/
DTSTART;TZID=US/Mountain:20260417T100000
SUMMARY:Open House Retirement for Jay Johnson
DESCRIPTION:Come help us celebrate Jay's 39 years of service, Sturgis Public Works campus, 10 a.m. to Noon   
UID:405f0bb9-f686-430b-b322-499b7162148c20260417T160000@www.sturgis-sd.gov
END:VEVENT
END:VCALENDAR